{"text_format":"1","workbook":"xlsx","n_sheets":2,"sheets":["入力シート","出力シート"],"not_rendered":{"charts":0,"images":0,"macros":1,"external_links":0,"defined_names":1,"comments":0,"pivot_tables":0},"unopened":[],"bounds":{"document_bytes":16777216,"sheet_cells":100000,"rows_first":2000,"rows_last":500,"rows_between":2000,"halvings":0,"cell_chars":16384,"cell_head_chars":4096},"cells_cut":0,"cells_raw":0,"read":"whole","date_system":"1900"}

{"sheet":"入力シート","index":0,"n_rows":28,"n_cols":15,"rows_kept":28,"cut":false,"hidden":false,"merged":[[10,1,26,1],[2,2,2,6],[7,2,7,3],[27,2,27,3],[1,2,1,6],[6,2,6,3],[3,2,3,3],[4,2,4,3],[5,2,5,3],[3,4,6,6]]}
[]
[null,"学校名","千葉県高体連バレーボール専門部"]
[null,"所在地","千葉県千葉市2021"]
[null,"校長名","米澤　努",null,"【注】\n姓と名の間にスペース\n(空白)を入れてください。\n",null,null,null,{"$f":"IF(C4=\"\",\"\",FIND(\"　\",C4,1)-1)","v":2},{"$f":"IF(C4=\"\",\"\",LEN(C4)-I4-1)","v":1},{"$f":"IF(C4=\"\",\"\",(LEFT(C4,I4)))","v":"米澤"},{"$f":"IF(C4=\"\",\"\",(RIGHT(C4,J4)))","v":"努"},{"$f":"IF(C4=\"\",\"\",CHOOSE(I4,K4&\"　　\",LEFT(K4,1)&\"　\"&RIGHT(K4,1),K4))","v":"米　澤"},{"$f":"IF(C4=\"\",\"\",CHOOSE(J4,\"　　\"&L4,LEFT(L4,1)&\"　\"&RIGHT(L4,1),L4))","v":"　　努"},{"$f":"IFERROR(M4&\"　\"&N4,C4)","v":"米　澤　　　努"}]
[null,"引率職員","湯上　準一",null,null,null,null,null,{"$f":"IF(C5=\"\",\"\",FIND(\"　\",C5,1)-1)","v":2},{"$f":"IF(C5=\"\",\"\",LEN(C5)-I5-1)","v":2},{"$f":"IF(C5=\"\",\"\",(LEFT(C5,I5)))","v":"湯上"},{"$f":"IF(C5=\"\",\"\",(RIGHT(C5,J5)))","v":"準一"},{"$f":"IF(C5=\"\",\"\",CHOOSE(I5,K5&\"　　\",LEFT(K5,1)&\"　\"&RIGHT(K5,1),K5))","v":"湯　上"},{"$f":"IF(C5=\"\",\"\",CHOOSE(J5,\"　　\"&L5,LEFT(L5,1)&\"　\"&RIGHT(L5,1),L5))","v":"準　一"},{"$f":"IFERROR(M5&\"　\"&N5,C5)","v":"湯　上　準　一"}]
[null,"監督","今関　等",null,null,null,null,null,{"$f":"IF(C6=\"\",\"\",FIND(\"　\",C6,1)-1)","v":2},{"$f":"IF(C6=\"\",\"\",LEN(C6)-I6-1)","v":1},{"$f":"IF(C6=\"\",\"\",(LEFT(C6,I6)))","v":"今関"},{"$f":"IF(C6=\"\",\"\",(RIGHT(C6,J6)))","v":"等"},{"$f":"IF(C6=\"\",\"\",CHOOSE(I6,K6&\"　　\",LEFT(K6,1)&\"　\"&RIGHT(K6,1),K6))","v":"今　関"},{"$f":"IF(C6=\"\",\"\",CHOOSE(J6,\"　　\"&L6,LEFT(L6,1)&\"　\"&RIGHT(L6,1),L6))","v":"　　等"},{"$f":"IFERROR(M6&\"　\"&N6,C6)","v":"今　関　　　等"}]
[null,"コーチ","中山　和之",null,null,null,null,null,{"$f":"IF(C7=\"\",\"\",FIND(\"　\",C7,1)-1)","v":2},{"$f":"IF(C7=\"\",\"\",LEN(C7)-I7-1)","v":2},{"$f":"IF(C7=\"\",\"\",(LEFT(C7,I7)))","v":"中山"},{"$f":"IF(C7=\"\",\"\",(RIGHT(C7,J7)))","v":"和之"},{"$f":"IF(C7=\"\",\"\",CHOOSE(I7,K7&\"　　\",LEFT(K7,1)&\"　\"&RIGHT(K7,1),K7))","v":"中　山"},{"$f":"IF(C7=\"\",\"\",CHOOSE(J7,\"　　\"&L7,LEFT(L7,1)&\"　\"&RIGHT(L7,1),L7))","v":"和　之"},{"$f":"IFERROR(M7&\"　\"&N7,C7)","v":"中　山　和　之"}]
[null,"マネージャー","藤倉　直樹",null,null,null,null,null,{"$f":"IF(C8=\"\",\"\",FIND(\"　\",C8,1)-1)","v":2},{"$f":"IF(C8=\"\",\"\",LEN(C8)-I8-1)","v":2},{"$f":"IF(C8=\"\",\"\",(LEFT(C8,I8)))","v":"藤倉"},{"$f":"IF(C8=\"\",\"\",(RIGHT(C8,J8)))","v":"直樹"},{"$f":"IF(C8=\"\",\"\",CHOOSE(I8,K8&\"　　\",LEFT(K8,1)&\"　\"&RIGHT(K8,1),K8))","v":"藤　倉"},{"$f":"IF(C8=\"\",\"\",CHOOSE(J8,\"　　\"&L8,LEFT(L8,1)&\"　\"&RIGHT(L8,1),L8))","v":"直　樹"},{"$f":"IFERROR(M8&\"　\"&N8,C8)","v":"藤　倉　直　樹"}]
[null,"選手","背番号","選 手 名","学年","身長","出身中学"]
[null,"【注】",1,"横田　重幸",3,170,"東葛飾",null,{"$f":"IF(D10=\"\",\"\",FIND(\"　\",D10,1)-1)","v":2},{"$f":"IF(D10=\"\",\"\",LEN(D10)-I10-1)","v":2},{"$f":"IF(D10=\"\",\"\",(LEFT(D10,I10)))","v":"横田"},{"$f":"IF(D10=\"\",\"\",(RIGHT(D10,J10)))","v":"重幸"},{"$f":"IF(D10=\"\",\"\",CHOOSE(I10,K10&\"　　\",LEFT(K10,1)&\"　\"&RIGHT(K10,1),K10))","v":"横　田"},{"$f":"IF(D10=\"\",\"\",CHOOSE(J10,\"　　\"&L10,LEFT(L10,1)&\"　\"&RIGHT(L10,1),L10))","v":"重　幸"},{"$f":"IFERROR(M10&\"　\"&N10,D10)","v":"横　田　重　幸"}]
[null,"姓と名の間にスペース(空白)を入れてください",2,"川下　智史",3,171,"成田",null,2,2,"川下","智史","川　下","智　史","川　下　智　史"]
[null,null,3,"國安　鉄太郎",3,172,"松戸",null,2,3,"國安","鉄太郎","國　安","鉄太郎","國　安　鉄太郎"]
[null,null,4,"旭　純弘",3,173,"昭和学院",null,1,2,"旭","純弘","旭　　","純　弘","旭　　　純　弘"]
[null,null,5,"金子　祐太郎",3,174,"成東",null,2,3,"金子","祐太郎","金　子","祐太郎","金　子　祐太郎"]
[null,null,6,"澤田　恵一",2,175,"千葉西",null,2,2,"澤田","恵一","澤　田","恵　一","澤　田　恵　一"]
[null,null,7,"赤鳥　健太郎",2,176,"白井",null,2,3,"赤鳥","健太郎","赤　鳥","健太郎","赤　鳥　健太郎"]
[null,null,8,"大竹　克弥",2,177,"市立銚子",null,2,2,"大竹","克弥","大　竹","克　弥","大　竹　克　弥"]
[null,null,9,"吉村　この実",2,178,"国府台",null,2,3,"吉村","この実","吉　村","この実","吉　村　この実"]
[null,null,10,"高橋　大輔",2,179,"千葉南",null,2,2,"高橋","大輔","高　橋","大　輔","高　橋　大　輔"]
[null,null,11,"橋場　大助",1,180,"柏井",null,2,2,"橋場","大助","橋　場","大　助","橋　場　大　助"]
[null,null,12,"小宮　知剛",1,181,"佐倉",null,2,2,"小宮","知剛","小　宮","知　剛","小　宮　知　剛"]
[null,null,13,"佐藤　征哉",1,182,"市立千葉",null,2,2,"佐藤","征哉","佐　藤","征　哉","佐　藤　征　哉"]
[null,null,14,"新庄　智仁",1,183,"中央学院",null,2,2,"新庄","智仁","新　庄","智　仁","新　庄　智　仁"]
[null,null,null,null,null,null,null,null,"","","","","","","　"]
[null,null,null,null,null,null,null,null,"","","","","","","　"]
[null,null,null,null,null,null,null,null,"","","","","","","　"]
[null,null,null,null,null,null,null,null,"","","","","","","　"]
[null,"入力日",{"$f":"TODAY()","v":"2021-06-09"}]

{"sheet":"出力シート","index":1,"n_rows":32,"n_cols":14,"rows_kept":32,"cut":false,"hidden":false,"merged":[[0,0,0,13],[5,1,5,2],[5,3,5,12],[1,3,1,13],[2,0,2,13],[4,1,4,2],[4,3,4,12],[26,3,26,9],[31,8,31,9],[31,10,31,12],[22,3,22,9],[23,3,23,9],[24,3,24,9],[25,3,25,9],[30,8,30,12],[29,1,29,6],[10,3,10,9],[11,3,11,9],[14,3,14,9],[15,3,15,9],[18,3,18,9],[12,3,12,9],[13,3,13,9],[19,3,19,9],[20,3,20,9],[21,3,21,9],[16,3,16,9],[17,3,17,9],[9,3,9,9],[6,2,6,7],[6,9,6,12],[7,2,7,7],[7,9,7,12],[8,3,8,9]]}
["第７４回全日本バレーボール高等学校選手権大会千葉県代表決定戦"]
[]
["大　会　申　込　書"]
[]
[" ","学　校　名",null,{"$f":"入力シート!C2","v":"千葉県高体連バレーボール専門部"}]
[null,"所　在　地",null,{"$f":"入力シート!C3","v":"千葉県千葉市2021"}]
[null,"引率職員",{"$f":"入力シート!O5","v":"湯　上　準　一"},null,null,null,null,null,"監督",{"$f":"入力シート!O6","v":"今　関　　　等"}]
[null,"コーチ",{"$f":"入力シート!O7","v":"中　山　和　之"},null,null,null,null,null,"マネ",{"$f":"入力シート!O8","v":"藤　倉　直　樹"}]
[null,"ＮＯ","背番","選　　手　　名",null,null,null,null,null,null,"学年","身長","出 身 中"]
[null,1,{"$f":"入力シート!C10","v":1},{"$f":"入力シート!O10","v":"横　田　重　幸"},null,null,null,null,null,null,{"$f":"入力シート!E10","v":3},{"$f":"入力シート!F10","v":170},{"$f":"入力シート!G10","v":"東葛飾"}]
[null,2,{"$f":"入力シート!C11","v":2},{"$f":"入力シート!O11","v":"川　下　智　史"},null,null,null,null,null,null,{"$f":"入力シート!E11","v":3},{"$f":"入力シート!F11","v":171},{"$f":"入力シート!G11","v":"成田"}]
[null,3,{"$f":"入力シート!C12","v":3},{"$f":"入力シート!O12","v":"國　安　鉄太郎"},null,null,null,null,null,null,{"$f":"入力シート!E12","v":3},{"$f":"入力シート!F12","v":172},{"$f":"入力シート!G12","v":"松戸"}]
[null,4,{"$f":"入力シート!C13","v":4},{"$f":"入力シート!O13","v":"旭　　　純　弘"},null,null,null,null,null,null,{"$f":"入力シート!E13","v":3},{"$f":"入力シート!F13","v":173},{"$f":"入力シート!G13","v":"昭和学院"}]
[null,5,{"$f":"入力シート!C14","v":5},{"$f":"入力シート!O14","v":"金　子　祐太郎"},null,null,null,null,null,null,{"$f":"入力シート!E14","v":3},{"$f":"入力シート!F14","v":174},{"$f":"入力シート!G14","v":"成東"}]
[null,6,{"$f":"入力シート!C15","v":6},{"$f":"入力シート!O15","v":"澤　田　恵　一"},null,null,null,null,null,null,{"$f":"入力シート!E15","v":2},{"$f":"入力シート!F15","v":175},{"$f":"入力シート!G15","v":"千葉西"}]
[null,7,{"$f":"入力シート!C16","v":7},{"$f":"入力シート!O16","v":"赤　鳥　健太郎"},null,null,null,null,null,null,{"$f":"入力シート!E16","v":2},{"$f":"入力シート!F16","v":176},{"$f":"入力シート!G16","v":"白井"}]
[null,8,{"$f":"入力シート!C17","v":8},{"$f":"入力シート!O17","v":"大　竹　克　弥"},null,null,null,null,null,null,{"$f":"入力シート!E17","v":2},{"$f":"入力シート!F17","v":177},{"$f":"入力シート!G17","v":"市立銚子"}]
[null,9,{"$f":"入力シート!C18","v":9},{"$f":"入力シート!O18","v":"吉　村　この実"},null,null,null,null,null,null,{"$f":"入力シート!E18","v":2},{"$f":"入力シート!F18","v":178},{"$f":"入力シート!G18","v":"国府台"}]
[null,10,{"$f":"入力シート!C19","v":10},{"$f":"入力シート!O19","v":"高　橋　大　輔"},null,null,null,null,null,null,{"$f":"入力シート!E19","v":2},{"$f":"入力シート!F19","v":179},{"$f":"入力シート!G19","v":"千葉南"}]
[null,11,{"$f":"入力シート!C20","v":11},{"$f":"入力シート!O20","v":"橋　場　大　助"},null,null,null,null,null,null,{"$f":"入力シート!E20","v":1},{"$f":"入力シート!F20","v":180},{"$f":"入力シート!G20","v":"柏井"}]
[null,12,{"$f":"入力シート!C21","v":12},{"$f":"入力シート!O21","v":"小　宮　知　剛"},null,null,null,null,null,null,{"$f":"入力シート!E21","v":1},{"$f":"入力シート!F21","v":181},{"$f":"入力シート!G21","v":"佐倉"}]
[null,13,{"$f":"入力シート!C22","v":13},{"$f":"入力シート!O22","v":"佐　藤　征　哉"},null,null,null,null,null,null,{"$f":"入力シート!E22","v":1},{"$f":"入力シート!F22","v":182},{"$f":"入力シート!G22","v":"市立千葉"}]
[null,14,{"$f":"入力シート!C23","v":14},{"$f":"入力シート!O23","v":"新　庄　智　仁"},null,null,null,null,null,null,{"$f":"入力シート!E23","v":1},{"$f":"入力シート!F23","v":183},{"$f":"入力シート!G23","v":"中央学院"}]
[null,15,{"$f":"入力シート!C24","v":0},{"$f":"入力シート!O24","v":"　"},null,null,null,null,null,null,{"$f":"入力シート!E24","v":0},{"$f":"入力シート!F24","v":0},{"$f":"入力シート!G24","v":0}]
[null,16,{"$f":"入力シート!C25","v":0},{"$f":"入力シート!O25","v":"　"},null,null,null,null,null,null,{"$f":"入力シート!E25","v":0},{"$f":"入力シート!F25","v":0},{"$f":"入力シート!G25","v":0}]
[null,17,{"$f":"入力シート!C26","v":0},{"$f":"入力シート!O26","v":"　"},null,null,null,null,null,null,{"$f":"入力シート!E26","v":0},{"$f":"入力シート!F26","v":0},{"$f":"入力シート!G26","v":0}]
[null,18,{"$f":"入力シート!C27","v":0},{"$f":"入力シート!O27","v":"　"},null,null,null,null,null,null,{"$f":"入力シート!E27","v":0},{"$f":"入力シート!F27","v":0},{"$f":"入力シート!G27","v":0}]
[]
[" 上記の生徒の参加を認める。"]
[null,{"$f":"入力シート!C28","v":"2021-06-09"}]
[null,null,null,null,null,null,null,null,{"$f":"入力シート!C2","v":"千葉県高体連バレーボール専門部"}]
[null,null,null,null,null,null,null,null,"校長",null,{"$f":"入力シート!O4","v":"米　澤　　　努"},null,null," 印"]