{"text_format":"1","workbook":"xlsx","n_sheets":2,"sheets":["入力シート","出力シート"],"not_rendered":{"charts":0,"images":0,"macros":1,"external_links":0,"defined_names":1,"comments":0,"pivot_tables":0},"unopened":[],"bounds":{"document_bytes":16777216,"sheet_cells":100000,"rows_first":2000,"rows_last":500,"rows_between":2000,"halvings":0,"cell_chars":16384,"cell_head_chars":4096},"cells_cut":0,"cells_raw":0,"read":"whole","date_system":"1900"}

{"sheet":"入力シート","index":0,"n_rows":30,"n_cols":15,"rows_kept":30,"cut":false,"hidden":false,"merged":[[11,1,27,1],[8,2,8,3],[28,2,28,3],[1,2,1,3],[4,4,8,6],[3,2,3,6],[4,2,4,3],[5,2,5,3],[6,2,6,3],[7,2,7,3],[28,4,28,6]]}
[]
[null,"大会名","総体",null,null,null,null,null,"関東予選","関東高等学校男子･女子バレーボール大会県予選"]
[null,"年度(元号)","元","年",null,null,null,null,"総体","千葉県高校総合体育大会バレーボール競技","兼全国高校総体バレーボール競技県予選"]
[null,"学校名","千葉県高体連バレーボール専門部",null,null,null,null,null,"新人","千葉県高等学校新人バレーボール大会"]
[null,"校長名","長尾　正利",null,"【注】\n姓と名の間にスペース\n(空白)を入れてください。\n",null,null,null,{"$f":"IF(C5=\"\",\"\",FIND(\"　\",C5,1)-1)","v":2},{"$f":"IF(C5=\"\",\"\",LEN(C5)-I5-1)","v":2},{"$f":"IF(C5=\"\",\"\",(LEFT(C5,I5)))","v":"長尾"},{"$f":"IF(C5=\"\",\"\",(RIGHT(C5,J5)))","v":"正利"},{"$f":"IF(C5=\"\",\"\",CHOOSE(I5,K5&\"　　\",LEFT(K5,1)&\"　\"&RIGHT(K5,1),K5))","v":"長　尾"},{"$f":"IF(C5=\"\",\"\",CHOOSE(J5,\"　　\"&L5,LEFT(L5,1)&\"　\"&RIGHT(L5,1),L5))","v":"正　利"},{"$f":"IFERROR(M5&\"　\"&N5,C5)","v":"長　尾　正　利"}]
[null,"引率職員","今関　等",null,null,null,null,null,2,1,"今関","等","今　関","　　等","今　関　　　等"]
[null,"監督","中山　和之",null,null,null,null,null,2,2,"中山","和之","中　山","和　之","中　山　和　之"]
[null,"コーチ","藤倉　直樹",null,null,null,null,null,2,2,"藤倉","直樹","藤　倉","直　樹","藤　倉　直　樹"]
[null,"マネージャー","横田　重幸",null,null,null,null,null,{"$f":"IF(C9=\"\",\"\",FIND(\"　\",C9,1)-1)","v":2},{"$f":"IF(C9=\"\",\"\",LEN(C9)-I9-1)","v":2},{"$f":"IF(C9=\"\",\"\",(LEFT(C9,I9)))","v":"横田"},{"$f":"IF(C9=\"\",\"\",(RIGHT(C9,J9)))","v":"重幸"},{"$f":"IF(C9=\"\",\"\",CHOOSE(I9,K9&\"　　\",LEFT(K9,1)&\"　\"&RIGHT(K9,1),K9))","v":"横　田"},{"$f":"IF(C9=\"\",\"\",CHOOSE(J9,\"　　\"&L9,LEFT(L9,1)&\"　\"&RIGHT(L9,1),L9))","v":"重　幸"},{"$f":"IFERROR(M9&\"　\"&N9,C9)","v":"横　田　重　幸"}]
[null,"選手","背番号","氏　名","学年","身長","出身中学"]
[null,"【注】",1,"川下　智史",3,170,"成田高校付属",null,{"$f":"IF(D11=\"\",\"\",FIND(\"　\",D11,1)-1)","v":2},{"$f":"IF(D11=\"\",\"\",LEN(D11)-I11-1)","v":2},{"$f":"IF(D11=\"\",\"\",(LEFT(D11,I11)))","v":"川下"},{"$f":"IF(D11=\"\",\"\",(RIGHT(D11,J11)))","v":"智史"},{"$f":"IF(D11=\"\",\"\",CHOOSE(I11,K11&\"　　\",LEFT(K11,1)&\"　\"&RIGHT(K11,1),K11))","v":"川　下"},{"$f":"IF(D11=\"\",\"\",CHOOSE(J11,\"　　\"&L11,LEFT(L11,1)&\"　\"&RIGHT(L11,1),L11))","v":"智　史"},{"$f":"IFERROR(M11&\"　\"&N11,D11)","v":"川　下　智　史"}]
[null,"姓と名の間にスペース(空白)を入れてください",2,"吉村　この実",3,171,"柏井",null,{"$f":"IF(D12=\"\",\"\",FIND(\"　\",D12,1)-1)","v":2},{"$f":"IF(D12=\"\",\"\",LEN(D12)-I12-1)","v":3},{"$f":"IF(D12=\"\",\"\",(LEFT(D12,I12)))","v":"吉村"},{"$f":"IF(D12=\"\",\"\",(RIGHT(D12,J12)))","v":"この実"},{"$f":"IF(D12=\"\",\"\",CHOOSE(I12,K12&\"　　\",LEFT(K12,1)&\"　\"&RIGHT(K12,1),K12))","v":"吉　村"},{"$f":"IF(D12=\"\",\"\",CHOOSE(J12,\"　　\"&L12,LEFT(L12,1)&\"　\"&RIGHT(L12,1),L12))","v":"この実"},{"$f":"IFERROR(M12&\"　\"&N12,D12)","v":"吉　村　この実"}]
[null,null,3,"金子　祐太郎",3,172,"成東",null,2,3,"金子","祐太郎","金　子","祐太郎","金　子　祐太郎"]
[null,null,4,"澤田　恵一",3,173,"船橋啓明",null,2,2,"澤田","恵一","澤　田","恵　一","澤　田　恵　一"]
[null,null,5,"旭　純弘",3,174,"昭和学院",null,1,2,"旭","純弘","旭　　","純　弘","旭　　　純　弘"]
[null,null,6,"赤鳥　健太郎",3,175,"白井",null,2,3,"赤鳥","健太郎","赤　鳥","健太郎","赤　鳥　健太郎"]
[null,null,7,"大竹　克弥",3,176,"市立銚子",null,2,2,"大竹","克弥","大　竹","克　弥","大　竹　克　弥"]
[null,null,8,"松田　喜樹",3,177,"我孫子",null,2,2,"松田","喜樹","松　田","喜　樹","松　田　喜　樹"]
[null,null,9,"牧野　正寿",3,178,"東金商業",null,2,2,"牧野","正寿","牧　野","正　寿","牧　野　正　寿"]
[null,null,10,"藤代　浩充",3,179,"千葉北",null,2,2,"藤代","浩充","藤　代","浩　充","藤　代　浩　充"]
[null,null,11,"橋場　大助",3,180,"幕張総合",null,2,2,"橋場","大助","橋　場","大　助","橋　場　大　助"]
[null,null,null,null,null,null,null,null,"","","","","","","　"]
[null,null,null,null,null,null,null,null,"","","","","","","　"]
[null,null,null,null,null,null,null,null,"","","","","","","　"]
[null,null,null,null,null,null,null,null,"","","","","","","　"]
[null,null,null,null,null,null,null,null,"","","","","","","　"]
[null,null,null,null,null,null,null,null,"","","","","","","　"]
[null,null,null,null,null,null,null,null,"","","","","","","　"]
[null,"入力日",{"$f":"TODAY()","v":"2020-01-06"}]
[null,"プログラム\n注文数",20]

{"sheet":"出力シート","index":1,"n_rows":34,"n_cols":10,"rows_kept":34,"cut":false,"hidden":false,"merged":[[0,3,0,9],[1,3,1,9],[32,4,32,5],[32,6,32,8],[10,3,10,5],[2,0,2,9],[4,1,4,2],[4,3,4,8],[5,2,5,3],[5,5,5,8],[6,2,6,3],[6,5,6,8],[7,3,7,5],[8,3,8,5],[9,3,9,5],[22,3,22,5],[11,3,11,5],[12,3,12,5],[13,3,13,5],[14,3,14,5],[15,3,15,5],[16,3,16,5],[17,3,17,5],[18,3,18,5],[19,3,19,5],[20,3,20,5],[21,3,21,5],[33,0,34,1],[34,2,34,3],[34,4,34,5],[23,3,23,5],[24,3,24,5],[25,3,25,5],[28,1,28,3],[31,4,31,8]]}
["令和",{"$f":"入力シート!C3","v":"元"},"年度",{"$f":"IF(入力シート!C2=\"関東予選\",入力シート!J2,IF(入力シート!C2=\"総体\",入力シート!J3,入力シート!J4))","v":"千葉県高校総合体育大会バレーボール競技"}]
[null,null,null,{"$f":"IF(入力シート!C2=\"総体\",入力シート!K3,\"\")","v":"兼全国高校総体バレーボール競技県予選"}]
["大　会　申　込　書"]
[]
[null,"学校名",null,{"$f":"入力シート!C4","v":"千葉県高体連バレーボール専門部"}]
[null,"引率職員",{"$f":"入力シート!O6","v":"今　関　　　等"},null,"監督",{"$f":"入力シート!O7","v":"中　山　和　之"}]
[null,"コーチ",{"$f":"入力シート!O8","v":"藤　倉　直　樹"},null,"マネ",{"$f":"入力シート!O9","v":"横　田　重　幸"}]
[null,"ＮＯ","背番","選　　手　　名",null,null,"学年","身長","出 身 中"]
[null,1,{"$f":"IF(入力シート!C11=\"\",\"\",入力シート!C11)","v":1},{"$f":"入力シート!O11","v":"川　下　智　史"},null,null,{"$f":"IF(入力シート!E11=\"\",\"\",入力シート!E11)","v":3},{"$f":"IF(入力シート!F11=\"\",\"\",入力シート!F11)","v":170},{"$f":"IF(入力シート!G11=\"\",\"\",入力シート!G11)","v":"成田高校付属"}]
[null,2,{"$f":"IF(入力シート!C12=\"\",\"\",入力シート!C12)","v":2},{"$f":"入力シート!O12","v":"吉　村　この実"},null,null,{"$f":"IF(入力シート!E12=\"\",\"\",入力シート!E12)","v":3},{"$f":"IF(入力シート!F12=\"\",\"\",入力シート!F12)","v":171},{"$f":"IF(入力シート!G12=\"\",\"\",入力シート!G12)","v":"柏井"}]
[null,3,{"$f":"IF(入力シート!C13=\"\",\"\",入力シート!C13)","v":3},{"$f":"入力シート!O13","v":"金　子　祐太郎"},null,null,{"$f":"IF(入力シート!E13=\"\",\"\",入力シート!E13)","v":3},{"$f":"IF(入力シート!F13=\"\",\"\",入力シート!F13)","v":172},{"$f":"IF(入力シート!G13=\"\",\"\",入力シート!G13)","v":"成東"}]
[null,4,{"$f":"IF(入力シート!C14=\"\",\"\",入力シート!C14)","v":4},{"$f":"入力シート!O14","v":"澤　田　恵　一"},null,null,{"$f":"IF(入力シート!E14=\"\",\"\",入力シート!E14)","v":3},{"$f":"IF(入力シート!F14=\"\",\"\",入力シート!F14)","v":173},{"$f":"IF(入力シート!G14=\"\",\"\",入力シート!G14)","v":"船橋啓明"}]
[null,5,{"$f":"IF(入力シート!C15=\"\",\"\",入力シート!C15)","v":5},{"$f":"入力シート!O15","v":"旭　　　純　弘"},null,null,{"$f":"IF(入力シート!E15=\"\",\"\",入力シート!E15)","v":3},{"$f":"IF(入力シート!F15=\"\",\"\",入力シート!F15)","v":174},{"$f":"IF(入力シート!G15=\"\",\"\",入力シート!G15)","v":"昭和学院"}]
[null,6,{"$f":"IF(入力シート!C16=\"\",\"\",入力シート!C16)","v":6},{"$f":"入力シート!O16","v":"赤　鳥　健太郎"},null,null,{"$f":"IF(入力シート!E16=\"\",\"\",入力シート!E16)","v":3},{"$f":"IF(入力シート!F16=\"\",\"\",入力シート!F16)","v":175},{"$f":"IF(入力シート!G16=\"\",\"\",入力シート!G16)","v":"白井"}]
[null,7,{"$f":"IF(入力シート!C17=\"\",\"\",入力シート!C17)","v":7},{"$f":"入力シート!O17","v":"大　竹　克　弥"},null,null,{"$f":"IF(入力シート!E17=\"\",\"\",入力シート!E17)","v":3},{"$f":"IF(入力シート!F17=\"\",\"\",入力シート!F17)","v":176},{"$f":"IF(入力シート!G17=\"\",\"\",入力シート!G17)","v":"市立銚子"}]
[null,8,{"$f":"IF(入力シート!C18=\"\",\"\",入力シート!C18)","v":8},{"$f":"入力シート!O18","v":"松　田　喜　樹"},null,null,{"$f":"IF(入力シート!E18=\"\",\"\",入力シート!E18)","v":3},{"$f":"IF(入力シート!F18=\"\",\"\",入力シート!F18)","v":177},{"$f":"IF(入力シート!G18=\"\",\"\",入力シート!G18)","v":"我孫子"}]
[null,9,{"$f":"IF(入力シート!C19=\"\",\"\",入力シート!C19)","v":9},{"$f":"入力シート!O19","v":"牧　野　正　寿"},null,null,{"$f":"IF(入力シート!E19=\"\",\"\",入力シート!E19)","v":3},{"$f":"IF(入力シート!F19=\"\",\"\",入力シート!F19)","v":178},{"$f":"IF(入力シート!G19=\"\",\"\",入力シート!G19)","v":"東金商業"}]
[null,10,{"$f":"IF(入力シート!C20=\"\",\"\",入力シート!C20)","v":10},{"$f":"入力シート!O20","v":"藤　代　浩　充"},null,null,{"$f":"IF(入力シート!E20=\"\",\"\",入力シート!E20)","v":3},{"$f":"IF(入力シート!F20=\"\",\"\",入力シート!F20)","v":179},{"$f":"IF(入力シート!G20=\"\",\"\",入力シート!G20)","v":"千葉北"}]
[null,11,{"$f":"IF(入力シート!C21=\"\",\"\",入力シート!C21)","v":11},{"$f":"入力シート!O21","v":"橋　場　大　助"},null,null,{"$f":"IF(入力シート!E21=\"\",\"\",入力シート!E21)","v":3},{"$f":"IF(入力シート!F21=\"\",\"\",入力シート!F21)","v":180},{"$f":"IF(入力シート!G21=\"\",\"\",入力シート!G21)","v":"幕張総合"}]
[null,12,{"$f":"IF(入力シート!C22=\"\",\"\",入力シート!C22)","v":""},{"$f":"入力シート!O22","v":"　"},null,null,{"$f":"IF(入力シート!E22=\"\",\"\",入力シート!E22)","v":""},{"$f":"IF(入力シート!F22=\"\",\"\",入力シート!F22)","v":""},{"$f":"IF(入力シート!G22=\"\",\"\",入力シート!G22)","v":""}]
[null,13,{"$f":"IF(入力シート!C23=\"\",\"\",入力シート!C23)","v":""},{"$f":"入力シート!O23","v":"　"},null,null,{"$f":"IF(入力シート!E23=\"\",\"\",入力シート!E23)","v":""},{"$f":"IF(入力シート!F23=\"\",\"\",入力シート!F23)","v":""},{"$f":"IF(入力シート!G23=\"\",\"\",入力シート!G23)","v":""}]
[null,14,{"$f":"IF(入力シート!C24=\"\",\"\",入力シート!C24)","v":""},{"$f":"入力シート!O24","v":"　"},null,null,{"$f":"IF(入力シート!E24=\"\",\"\",入力シート!E24)","v":""},{"$f":"IF(入力シート!F24=\"\",\"\",入力シート!F24)","v":""},{"$f":"IF(入力シート!G24=\"\",\"\",入力シート!G24)","v":""}]
[null,15,{"$f":"IF(入力シート!C25=\"\",\"\",入力シート!C25)","v":""},{"$f":"入力シート!O25","v":"　"},null,null,{"$f":"IF(入力シート!E25=\"\",\"\",入力シート!E25)","v":""},{"$f":"IF(入力シート!F25=\"\",\"\",入力シート!F25)","v":""},{"$f":"IF(入力シート!G25=\"\",\"\",入力シート!G25)","v":""}]
[null,16,{"$f":"IF(入力シート!C26=\"\",\"\",入力シート!C26)","v":""},{"$f":"入力シート!O26","v":"　"},null,null,{"$f":"IF(入力シート!E26=\"\",\"\",入力シート!E26)","v":""},{"$f":"IF(入力シート!F26=\"\",\"\",入力シート!F26)","v":""},{"$f":"IF(入力シート!G26=\"\",\"\",入力シート!G26)","v":""}]
[null,17,{"$f":"IF(入力シート!C27=\"\",\"\",入力シート!C27)","v":""},{"$f":"入力シート!O27","v":"　"},null,null,{"$f":"IF(入力シート!E27=\"\",\"\",入力シート!E27)","v":""},{"$f":"IF(入力シート!F27=\"\",\"\",入力シート!F27)","v":""},{"$f":"IF(入力シート!G27=\"\",\"\",入力シート!G27)","v":""}]
[null,18,{"$f":"IF(入力シート!C28=\"\",\"\",入力シート!C28)","v":""},{"$f":"入力シート!O28","v":"　"},null,null,{"$f":"IF(入力シート!E28=\"\",\"\",入力シート!E28)","v":""},{"$f":"IF(入力シート!F28=\"\",\"\",入力シート!F28)","v":""},{"$f":"IF(入力シート!G28=\"\",\"\",入力シート!G28)","v":""}]
[]
[" 上記の生徒の参加を認める。"]
[null,{"$f":"入力シート!C29","v":"2020-01-06"}]
[]
["千葉県高等学校体育連盟会長様"]
[null,null,null,null,{"$f":"入力シート!C4","v":"千葉県高体連バレーボール専門部"}]
[null,null,null,null,"校　長",null,{"$f":"入力シート!O5","v":"長　尾　正　利"},null,null,"印"]
[{"$f":"入力シート!C30","v":20}]